BEGIN:VCALENDAR
VERSION:2.0
PRODID:-//wp-events-plugin.com//7.2.3.1//EN
TZID:Europe/Berlin
X-WR-TIMEZONE:Europe/Berlin
BEGIN:VEVENT
UID:1@riederauer-sc.de
DTSTART;TZID=Europe/Berlin:20240412T113000
DTEND;TZID=Europe/Berlin:20240412T180000
DTSTAMP:20240229T132608Z
URL:https://riederauer-sc.de/events/auswintern-der-dickschiffe/
SUMMARY:Auswintern der Dickschiffe
DESCRIPTION:Auswintern der Kielboote Aquarius² und Cara-Mia sowie des Moto
 rbootes
LOCATION:Freizeitgelände Riederau (Bootshaus)\, Seeweg-Süd 4\, Riederau\,
  Bayern\, 86911\, Deutschland
X-APPLE-STRUCTURED-LOCATION;VALUE=URI;X-ADDRESS=Seeweg-Süd 4\, Riederau\, 
 Bayern\, 86911\, Deutschland;X-APPLE-RADIUS=100;X-TITLE=Freizeitgelände R
 iederau (Bootshaus):geo:0,0
END:VEVENT
BEGIN:VEVENT
UID:2@riederauer-sc.de
DTSTART;TZID=Europe/Berlin:20240420T093000
DTEND;TZID=Europe/Berlin:20240420T130000
DTSTAMP:20240229T133218Z
URL:https://riederauer-sc.de/events/auswintern-der-jollen/
SUMMARY:Auswintern der Jollen
DESCRIPTION:
LOCATION:Freizeitgelände Riederau (Bootshaus)\, Seeweg-Süd 4\, Riederau\,
  Bayern\, 86911\, Deutschland
X-APPLE-STRUCTURED-LOCATION;VALUE=URI;X-ADDRESS=Seeweg-Süd 4\, Riederau\, 
 Bayern\, 86911\, Deutschland;X-APPLE-RADIUS=100;X-TITLE=Freizeitgelände R
 iederau (Bootshaus):geo:0,0
END:VEVENT
BEGIN:VEVENT
UID:3@riederauer-sc.de
DTSTART;TZID=Europe/Berlin:20240501T100000
DTEND;TZID=Europe/Berlin:20240501T170000
DTSTAMP:20240229T125150Z
URL:https://riederauer-sc.de/events/ansegeln/
SUMMARY:Ansegeln
DESCRIPTION:
END:VEVENT
BEGIN:VEVENT
UID:4@riederauer-sc.de
DTSTART;TZID=Europe/Berlin;VALUE=DATE:20240517
DTEND;TZID=Europe/Berlin;VALUE=DATE:20240520
DTSTAMP:20240229T133713Z
URL:https://riederauer-sc.de/events/pfingst-segelcamp-kids/
SUMMARY:Pfingst-Segelcamp Kids
DESCRIPTION:Beginn Freitag um 10 Uhr\n\nEnde Pfingstsonntag um 11 Uhr
LOCATION:Freizeitgelände Riederau (Bootshaus)\, Seeweg-Süd 4\, Riederau\,
  Bayern\, 86911\, Deutschland
X-APPLE-STRUCTURED-LOCATION;VALUE=URI;X-ADDRESS=Seeweg-Süd 4\, Riederau\, 
 Bayern\, 86911\, Deutschland;X-APPLE-RADIUS=100;X-TITLE=Freizeitgelände R
 iederau (Bootshaus):geo:0,0
END:VEVENT
BEGIN:VEVENT
UID:5@riederauer-sc.de
DTSTART;TZID=Europe/Berlin;VALUE=DATE:20240519
DTEND;TZID=Europe/Berlin;VALUE=DATE:20240522
DTSTAMP:20240229T133624Z
URL:https://riederauer-sc.de/events/pfingst-segelcamp-youthcrew/
SUMMARY:Pfingst-Segelcamp YouthCrew
DESCRIPTION:Beginn am Pfingstsonntag um 10 Uhr\n\nEnde Dienstag\, 18 Uhr
LOCATION:Freizeitgelände Riederau (Bootshaus)\, Seeweg-Süd 4\, Riederau\,
  Bayern\, 86911\, Deutschland
X-APPLE-STRUCTURED-LOCATION;VALUE=URI;X-ADDRESS=Seeweg-Süd 4\, Riederau\, 
 Bayern\, 86911\, Deutschland;X-APPLE-RADIUS=100;X-TITLE=Freizeitgelände R
 iederau (Bootshaus):geo:0,0
END:VEVENT
BEGIN:VTIMEZONE
TZID:Europe/Berlin
X-LIC-LOCATION:Europe/Berlin
BEGIN:DAYLIGHT
DTSTART:20240331T030000
TZOFFSETFROM:+0100
TZOFFSETTO:+0200
TZNAME:CEST
END:DAYLIGHT
END:VTIMEZONE
END:VCALENDAR